Workbook

Sheet Base
A4: Cost Estimate
A5: For: | B5: Highland Drive Reconstruction
A7: To: | B7: Town of Kewaskum
B8: Attn: Anne Tratner, Town Clerk
B9: PO Box 484
B10: Kewaskum, WI 53040
A12: Base Schedule: Highland Drive
A13: ITEM NUMBER | B13: ITEM | C13: UNIT | D13: QTY | E13: UNIT PRICE | F13: TOTAL COST
A14: 1 | B14: Traffic Control | C14: LS | D14: =SUMIFS('CTH H-STH 28'!$D$14:$D$500,'CTH H-STH 28'!$B$14:$B$500,$B14,'CTH H-STH 28'!$C$14:$C$500,$C14)+SUMIFS('STH 28-W Moraine'!$D$14:$D$500,'STH 28-W Moraine'!$B$14:$B$500,$B14,'STH 28-W Moraine'!$C$14:$C$500,$C14) -> 1 | F14: =D14*E14 -> 0
A15: =A14+1 -> 2 | B15: Clearing & Grubbing | C15: LS | D15: =SUMIFS('CTH H-STH 28'!$D$14:$D$500,'CTH H-STH 28'!$B$14:$B$500,$B15,'CTH H-STH 28'!$C$14:$C$500,$C15)+SUMIFS('STH 28-W Moraine'!$D$14:$D$500,'STH 28-W Moraine'!$B$14:$B$500,$B15,'STH 28-W Moraine'!$C$14:$C$500,$C15) -> 1 | F15: =D15*E15 -> 0
A16: =A15+1 -> 3 | B16: Silt Fence | C16: LF | D16: =SUMIFS('CTH H-STH 28'!$D$14:$D$500,'CTH H-STH 28'!$B$14:$B$500,$B16,'CTH H-STH 28'!$C$14:$C$500,$C16)+SUMIFS('STH 28-W Moraine'!$D$14:$D$500,'STH 28-W Moraine'!$B$14:$B$500,$B16,'STH 28-W Moraine'!$C$14:$C$500,$C16) -> 6060 | F16: =D16*E16 -> 0
A17: =A16+1 -> 4 | B17: Sawcut Pavement | C17: LF | D17: =SUMIFS('CTH H-STH 28'!$D$14:$D$500,'CTH H-STH 28'!$B$14:$B$500,$B17,'CTH H-STH 28'!$C$14:$C$500,$C17)+SUMIFS('STH 28-W Moraine'!$D$14:$D$500,'STH 28-W Moraine'!$B$14:$B$500,$B17,'STH 28-W Moraine'!$C$14:$C$500,$C17) -> 232 | F17: =D17*E17 -> 0
A18: =A17+1 -> 5 | B18: Remove Asphalt Pavement | C18: SY | D18: =SUMIFS('CTH H-STH 28'!$D$14:$D$500,'CTH H-STH 28'!$B$14:$B$500,$B18,'CTH H-STH 28'!$C$14:$C$500,$C18)+SUMIFS('STH 28-W Moraine'!$D$14:$D$500,'STH 28-W Moraine'!$B$14:$B$500,$B18,'STH 28-W Moraine'!$C$14:$C$500,$C18) -> 21310 | F18: =D18*E18 -> 0
A19: =A18+1 -> 6 | B19: Remove Concrete Pavement | C19: SY | D19: =SUMIFS('CTH H-STH 28'!$D$14:$D$500,'CTH H-STH 28'!$B$14:$B$500,$B19,'CTH H-STH 28'!$C$14:$C$500,$C19)+SUMIFS('STH 28-W Moraine'!$D$14:$D$500,'STH 28-W Moraine'!$B$14:$B$500,$B19,'STH 28-W Moraine'!$C$14:$C$500,$C19) -> 65 | F19: =D19*E19 -> 0
A20: =A19+1 -> 7 | B20: Remove Trees | C20: EA | D20: =SUMIFS('CTH H-STH 28'!$D$14:$D$500,'CTH H-STH 28'!$B$14:$B$500,$B20,'CTH H-STH 28'!$C$14:$C$500,$C20)+SUMIFS('STH 28-W Moraine'!$D$14:$D$500,'STH 28-W Moraine'!$B$14:$B$500,$B20,'STH 28-W Moraine'!$C$14:$C$500,$C20) -> 3 | F20: =D20*E20 -> 0
A21: =A20+1 -> 8 | B21: Moving Existing Signs | C21: EA | D21: =SUMIFS('CTH H-STH 28'!$D$14:$D$500,'CTH H-STH 28'!$B$14:$B$500,$B21,'CTH H-STH 28'!$C$14:$C$500,$C21)+SUMIFS('STH 28-W Moraine'!$D$14:$D$500,'STH 28-W Moraine'!$B$14:$B$500,$B21,'STH 28-W Moraine'!$C$14:$C$500,$C21) -> 18 | F21: =D21*E21 -> 0
A22: =A21+1 -> 9 | B22: Remove 12" Culvert | C22: LF | D22: =SUMIFS('CTH H-STH 28'!$D$14:$D$500,'CTH H-STH 28'!$B$14:$B$500,$B22,'CTH H-STH 28'!$C$14:$C$500,$C22)+SUMIFS('STH 28-W Moraine'!$D$14:$D$500,'STH 28-W Moraine'!$B$14:$B$500,$B22,'STH 28-W Moraine'!$C$14:$C$500,$C22) -> 132 | F22: =D22*E22 -> 0
A23: =A22+1 -> 10 | B23: Remove 15" Culvert | C23: LF | D23: =SUMIFS('CTH H-STH 28'!$D$14:$D$500,'CTH H-STH 28'!$B$14:$B$500,$B23,'CTH H-STH 28'!$C$14:$C$500,$C23)+SUMIFS('STH 28-W Moraine'!$D$14:$D$500,'STH 28-W Moraine'!$B$14:$B$500,$B23,'STH 28-W Moraine'!$C$14:$C$500,$C23) -> 25 | F23: =D23*E23 -> 0
A24: =A23+1 -> 11 | B24: Remove 18" Culvert | C24: LF | D24: =SUMIFS('CTH H-STH 28'!$D$14:$D$500,'CTH H-STH 28'!$B$14:$B$500,$B24,'CTH H-STH 28'!$C$14:$C$500,$C24)+SUMIFS('STH 28-W Moraine'!$D$14:$D$500,'STH 28-W Moraine'!$B$14:$B$500,$B24,'STH 28-W Moraine'!$C$14:$C$500,$C24) -> 129 | F24: =D24*E24 -> 0
A25: =A24+1 -> 12 | B25: Remove 24" Culvert | C25: LF | D25: =SUMIFS('CTH H-STH 28'!$D$14:$D$500,'CTH H-STH 28'!$B$14:$B$500,$B25,'CTH H-STH 28'!$C$14:$C$500,$C25)+SUMIFS('STH 28-W Moraine'!$D$14:$D$500,'STH 28-W Moraine'!$B$14:$B$500,$B25,'STH 28-W Moraine'!$C$14:$C$500,$C25) -> 94 | F25: =D25*E25 -> 0
A26: =A25+1 -> 13 | B26: Remove 36" Culvert | C26: LF | D26: =SUMIFS('CTH H-STH 28'!$D$14:$D$500,'CTH H-STH 28'!$B$14:$B$500,$B26,'CTH H-STH 28'!$C$14:$C$500,$C26)+SUMIFS('STH 28-W Moraine'!$D$14:$D$500,'STH 28-W Moraine'!$B$14:$B$500,$B26,'STH 28-W Moraine'!$C$14:$C$500,$C26) -> 43 | F26: =D26*E26 -> 0
... A31: =A30+1 -> 18 | B31: 15" RCP Storm Sewer | C31: LF | D31: =SUMIFS('CTH H-STH 28'!$D$14:$D$500,'CTH H-STH 28'!$B$14:$B$500,$B31,'CTH H-STH 28'!$C$14:$C$500,$C31)+SUMIFS('STH 28-W Moraine'!$D$14:$D$500,'STH 28-W Moraine'!$B$14:$B$500,$B31,'STH 28-W Moraine'!$C$14:$C$500,$C31) -> 40 | F31: =D31*E31 -> 0
A32: =A37+1 -> 24 | B32: 36" RCP Storm Sewer | C32: LF | D32: =SUMIFS('CTH H-STH 28'!$D$14:$D$500,'CTH H-STH 28'!$B$14:$B$500,$B32,'CTH H-STH 28'!$C$14:$C$500,$C32)+SUMIFS('STH 28-W Moraine'!$D$14:$D$500,'STH 28-W Moraine'!$B$14:$B$500,$B32,'STH 28-W Moraine'!$C$14:$C$500,$C32) -> 50 | F32: =D32*E32 -> 0
A33: =A31+1 -> 19 | B33: 24" RCP Storm Sewer | C33: LF | D33: =SUMIFS('CTH H-STH 28'!$D$14:$D$500,'CTH H-STH 28'!$B$14:$B$500,$B33,'CTH H-STH 28'!$C$14:$C$500,$C33)+SUMIFS('STH 28-W Moraine'!$D$14:$D$500,'STH 28-W Moraine'!$B$14:$B$500,$B33,'STH 28-W Moraine'!$C$14:$C$500,$C33) -> 159 | F33: =D33*E33 -> 0
A34: =A33+1 -> 20 | B34: 12" HDPE Storm Sewer | C34: LF | D34: =SUMIFS('CTH H-STH 28'!$D$14:$D$500,'CTH H-STH 28'!$B$14:$B$500,$B34,'CTH H-STH 28'!$C$14:$C$500,$C34)+SUMIFS('STH 28-W Moraine'!$D$14:$D$500,'STH 28-W Moraine'!$B$14:$B$500,$B34,'STH 28-W Moraine'!$C$14:$C$500,$C34) -> 251 | F34: =D34*E34 -> 0
A35: =A34+1 -> 21 | B35: 15" HDPE Storm Sewer | C35: LF | D35: =SUMIFS('CTH H-STH 28'!$D$14:$D$500,'CTH H-STH 28'!$B$14:$B$500,$B35,'CTH H-STH 28'!$C$14:$C$500,$C35)+SUMIFS('STH 28-W Moraine'!$D$14:$D$500,'STH 28-W Moraine'!$B$14:$B$500,$B35,'STH 28-W Moraine'!$C$14:$C$500,$C35) -> 221 | F35: =D35*E35 -> 0
A36: =A35+1 -> 22 | B36: 18" HDPE Storm Sewer | C36: LF | D36: =SUMIFS('CTH H-STH 28'!$D$14:$D$500,'CTH H-STH 28'!$B$14:$B$500,$B36,'CTH H-STH 28'!$C$14:$C$500,$C36)+SUMIFS('STH 28-W Moraine'!$D$14:$D$500,'STH 28-W Moraine'!$B$14:$B$500,$B36,'STH 28-W Moraine'!$C$14:$C$500,$C36) -> 166 | F36: =D36*E36 -> 0
A37: =A36+1 -> 23 | B37: 24" HDPE Storm Sewer | C37: LF | D37: =SUMIFS('CTH H-STH 28'!$D$14:$D$500,'CTH H-STH 28'!$B$14:$B$500,$B37,'CTH H-STH 28'!$C$14:$C$500,$C37)+SUMIFS('STH 28-W Moraine'!$D$14:$D$500,'STH 28-W Moraine'!$B$14:$B$500,$B37,'STH 28-W Moraine'!$C$14:$C$500,$C37) -> 55 | F37: =D37*E37 -> 0
A38: =A32+1 -> 25 | B38: 12" Apron Endwall | C38: EA | D38: =SUMIFS('CTH H-STH 28'!$D$14:$D$500,'CTH H-STH 28'!$B$14:$B$500,$B38,'CTH H-STH 28'!$C$14:$C$500,$C38)+SUMIFS('STH 28-W Moraine'!$D$14:$D$500,'STH 28-W Moraine'!$B$14:$B$500,$B38,'STH 28-W Moraine'!$C$14:$C$500,$C38) -> 14 | F38: =D38*E38 -> 0
A39: =A38+1 -> 26 | B39: 15" Apron Endwall | C39: EA | D39: =SUMIFS('CTH H-STH 28'!$D$14:$D$500,'CTH H-STH 28'!$B$14:$B$500,$B39,'CTH H-STH 28'!$C$14:$C$500,$C39)+SUMIFS('STH 28-W Moraine'!$D$14:$D$500,'STH 28-W Moraine'!$B$14:$B$500,$B39,'STH 28-W Moraine'!$C$14:$C$500,$C39) -> 12 | F39: =D39*E39 -> 0
A40: =A39+1 -> 27 | B40: 18" Apron Endwall | C40: EA | D40: =SUMIFS('CTH H-STH 28'!$D$14:$D$500,'CTH H-STH 28'!$B$14:$B$500,$B40,'CTH H-STH 28'!$C$14:$C$500,$C40)+SUMIFS('STH 28-W Moraine'!$D$14:$D$500,'STH 28-W Moraine'!$B$14:$B$500,$B40,'STH 28-W Moraine'!$C$14:$C$500,$C40) -> 10 | F40: =D40*E40 -> 0
A41: =A40+1 -> 28 | B41: 24" Apron Endwall | C41: EA | D41: =SUMIFS('CTH H-STH 28'!$D$14:$D$500,'CTH H-STH 28'!$B$14:$B$500,$B41,'CTH H-STH 28'!$C$14:$C$500,$C41)+SUMIFS('STH 28-W Moraine'!$D$14:$D$500,'STH 28-W Moraine'!$B$14:$B$500,$B41,'STH 28-W Moraine'!$C$14:$C$500,$C41) -> 8 | F41: =D41*E41 -> 0
A42: =A41+1 -> 29 | B42: 36" Apron Endwall | C42: EA | D42: =SUMIFS('CTH H-STH 28'!$D$14:$D$500,'CTH H-STH 28'!$B$14:$B$500,$B42,'CTH H-STH 28'!$C$14:$C$500,$C42)+SUMIFS('STH 28-W Moraine'!$D$14:$D$500,'STH 28-W Moraine'!$B$14:$B$500,$B42,'STH 28-W Moraine'!$C$14:$C$500,$C42) -> 2 | F42: =D42*E42 -> 0
A43: =A42+1 -> 30 | B43: 30" Curb and Gutter | C43: LF | D43: =SUMIFS('CTH H-STH 28'!$D$14:$D$500,'CTH H-STH 28'!$B$14:$B$500,$B43,'CTH H-STH 28'!$C$14:$C$500,$C43)+SUMIFS('STH 28-W Moraine'!$D$14:$D$500,'STH 28-W Moraine'!$B$14:$B$500,$B43,'STH 28-W Moraine'!$C$14:$C$500,$C43) -> 2250 | F43: =D43*E43 -> 0
A44: =A43+1 -> 31 | B44: Concrete Flume | C44: EA | D44: =SUMIFS('CTH H-STH 28'!$D$14:$D$500,'CTH H-STH 28'!$B$14:$B$500,$B44,'CTH H-STH 28'!$C$14:$C$500,$C44)+SUMIFS('STH 28-W Moraine'!$D$14:$D$500,'STH 28-W Moraine'!$B$14:$B$500,$B44,'STH 28-W Moraine'!$C$14:$C$500,$C44) -> 8 | F44: =D44*E44 -> 0
A45: =A44+1 -> 32 | B45: Light Rip Rap w/ Fabric | C45: SY | D45: =SUMIFS('CTH H-STH 28'!$D$14:$D$500,'CTH H-STH 28'!$B$14:$B$500,$B45,'CTH H-STH 28'!$C$14:$C$500,$C45)+SUMIFS('STH 28-W Moraine'!$D$14:$D$500,'STH 28-W Moraine'!$B$14:$B$500,$B45,'STH 28-W Moraine'!$C$14:$C$500,$C45) -> 21 | F45: =D45*E45 -> 0
A46: =A45+1 -> 33 | B46: 1-1/4" Aggregate Base Dense | C46: TON | D46: =SUMIFS('CTH H-STH 28'!$D$14:$D$500,'CTH H-STH 28'!$B$14:$B$500,$B46,'CTH H-STH 28'!$C$14:$C$500,$C46)+SUMIFS('STH 28-W Moraine'!$D$14:$D$500,'STH 28-W Moraine'!$B$14:$B$500,$B46,'STH 28-W Moraine'!$C$14:$C$500,$C46) -> 13110.173 | F46: =D46*E46 -> 0
A47: =A46+1 -> 34 | B47: Finish Grading | C47: SY | D47: =SUMIFS('CTH H-STH 28'!$D$14:$D$500,'CTH H-STH 28'!$B$14:$B$500,$B47,'CTH H-STH 28'!$C$14:$C$500,$C47)+SUMIFS('STH 28-W Moraine'!$D$14:$D$500,'STH 28-W Moraine'!$B$14:$B$500,$B47,'STH 28-W Moraine'!$C$14:$C$500,$C47) -> 26169.56 | F47: =D47*E47 -> 0
A48: =A47+1 -> 35 | B48: 2 1/4" 3 LT 58-28 S Asphalt Binder | C48: TON | D48: =SUMIFS('CTH H-STH 28'!$D$14:$D$500,'CTH H-STH 28'!$B$14:$B$500,$B48,'CTH H-STH 28'!$C$14:$C$500,$C48)+SUMIFS('STH 28-W Moraine'!$D$14:$D$500,'STH 28-W Moraine'!$B$14:$B$500,$B48,'STH 28-W Moraine'!$C$14:$C$500,$C48) -> 3460.6553 | F48: =D48*E48 -> 0
A49: =A48+1 -> 36 | B49: Tack Coat | C49: SY | D49: =SUMIFS('CTH H-STH 28'!$D$14:$D$500,'CTH H-STH 28'!$B$14:$B$500,$B49,'CTH H-STH 28'!$C$14:$C$500,$C49)+SUMIFS('STH 28-W Moraine'!$D$14:$D$500,'STH 28-W Moraine'!$B$14:$B$500,$B49,'STH 28-W Moraine'!$C$14:$C$500,$C49) -> 26169.56 | F49: =D49*E49 -> 0
...

Sheet CTH H-STH 28
A4: Cost Estimate
A5: For: | B5: Highland Drive Reconstruction
A7: To: | B7: Town of Kewaskum
B8: Attn: Anne Tratner, Town Clerk
B9: PO Box 484
B10: Kewaskum, WI 53040
A12: Base Schedule: Highland Drive, CTH H - STH 28
A13: ITEM NUMBER | B13: ITEM | C13: UNIT | D13: QTY | E13: UNIT PRICE | F13: TOTAL COST
A14: 1 | B14: Traffic Control | C14: LS | D14: 0.5 | F14: =Division1[[#This Row],[UNIT PRICE]]*Division1[[#This Row],[QTY]] -> 0
A15: =A14+1 -> 2 | B15: Clearing & Grubbing | C15: LS | D15: 0.5 | F15: =Division1[[#This Row],[UNIT PRICE]]*Division1[[#This Row],[QTY]] -> 0
A16: =A15+1 -> 3 | B16: Silt Fence | C16: LF | D16: 4190 | F16: =Division1[[#This Row],[UNIT PRICE]]*Division1[[#This Row],[QTY]] -> 0
A17: =A16+1 -> 4 | B17: Sawcut Pavement | C17: LF | D17: 195 | F17: =Division1[[#This Row],[UNIT PRICE]]*Division1[[#This Row],[QTY]] -> 0
A18: =A17+1 -> 5 | B18: Remove Asphalt Pavement | C18: SY | D18: =1623+37+1821+54+77+1799+1789+35+50+59+1805+1794+1776+32-1 -> 12750 | F18: =Division1[[#This Row],[UNIT PRICE]]*Division1[[#This Row],[QTY]] -> 0
A19: =A18+1 -> 6 | B19: Remove Concrete Pavement | C19: SY | D19: 65 | F19: =Division1[[#This Row],[UNIT PRICE]]*Division1[[#This Row],[QTY]] -> 0
A20: =A19+1 -> 7 | B20: Moving Existing Signs | C20: EA | D20: 7 | F20: =Division1[[#This Row],[UNIT PRICE]]*Division1[[#This Row],[QTY]] -> 0
A21: =A20+1 -> 8 | B21: Remove 12" Culvert | C21: LF | D21: =24+30+22+26+30 -> 132 | F21: =Division1[[#This Row],[UNIT PRICE]]*Division1[[#This Row],[QTY]] -> 0
A22: =A21+1 -> 9 | B22: Remove 15" Culvert | C22: LF | D22: =25 -> 25 | F22: =Division1[[#This Row],[UNIT PRICE]]*Division1[[#This Row],[QTY]] -> 0
A23: =A22+1 -> 10 | B23: Remove 18" Culvert | C23: LF | D23: =29+36+24+40 -> 129 | F23: =Division1[[#This Row],[UNIT PRICE]]*Division1[[#This Row],[QTY]] -> 0
A24: =A23+1 -> 11 | B24: Remove 24" Culvert | C24: LF | D24: =55+39 -> 94 | F24: =Division1[[#This Row],[UNIT PRICE]]*Division1[[#This Row],[QTY]] -> 0
A25: =A24+1 -> 12 | B25: Unclassified Excavation | C25: CY | D25: =1825.86+6222.6+2 -> 8050.46 | F25: =Division1[[#This Row],[UNIT PRICE]]*Division1[[#This Row],[QTY]] -> 0
A26: =A25+1 -> 13 | B26: Earthwork Fill (from Unclassified Exc.) | C26: CY | D26: =1356.45+13.61 -> 1370.06 | F26: =Division1[[#This Row],[UNIT PRICE]]*Division1[[#This Row],[QTY]] -> 0
A27: =A26+1 -> 14 | B27: Excavation Below Subgrade | C27: CY | D27: =D25*0.1 -> 805.046 | F27: =Division1[[#This Row],[UNIT PRICE]]*Division1[[#This Row],[QTY]] -> 0
A28: =A27+1 -> 15 | B28: Undercut | C28: CY | D28: =D27*0.15-1 -> 119.7569 | F28: =Division1[[#This Row],[UNIT PRICE]]*Division1[[#This Row],[QTY]] -> 0
A29: =A28+1 -> 16 | B29: 15" RCP Storm Sewer | C29: LF | D29: 40 | F29: =Division1[[#This Row],[UNIT PRICE]]*Division1[[#This Row],[QTY]] -> 0
A30: =A29+1 -> 17 | B30: 24" RCP Storm Sewer | C30: LF | D30: 159 | F30: =Division1[[#This Row],[UNIT PRICE]]*Division1[[#This Row],[QTY]] -> 0
A31: =A30+1 -> 18 | B31: 12" HDPE Storm Sewer | C31: LF | D31: 127 | F31: =Division1[[#This Row],[UNIT PRICE]]*Division1[[#This Row],[QTY]] -> 0
A32: =A31+1 -> 19 | B32: 15" HDPE Storm Sewer | C32: LF | D32: 87 | F32: =Division1[[#This Row],[UNIT PRICE]]*Division1[[#This Row],[QTY]] -> 0
A33: =A32+1 -> 20 | B33: 18" HDPE Storm Sewer | C33: LF | D33: 166 | F33: =Division1[[#This Row],[UNIT PRICE]]*Division1[[#This Row],[QTY]] -> 0
A34: =A33+1 -> 21 | B34: 24" HDPE Storm Sewer | C34: LF | D34: 55 | F34: =Division1[[#This Row],[UNIT PRICE]]*Division1[[#This Row],[QTY]] -> 0
A35: =A34+1 -> 22 | B35: 12" Apron Endwall | C35: EA | D35: 8 | F35: =Division1[[#This Row],[UNIT PRICE]]*Division1[[#This Row],[QTY]] -> 0
A36: =A35+1 -> 23 | B36: 15" Apron Endwall | C36: EA | D36: 6 | F36: =Division1[[#This Row],[UNIT PRICE]]*Division1[[#This Row],[QTY]] -> 0
A37: =A36+1 -> 24 | B37: 18" Apron Endwall | C37: EA | D37: 10 | F37: =Division1[[#This Row],[UNIT PRICE]]*Division1[[#This Row],[QTY]] -> 0
A38: =A37+1 -> 25 | B38: 24" Apron Endwall | C38: EA | D38: 8 | F38: =Division1[[#This Row],[UNIT PRICE]]*Division1[[#This Row],[QTY]] -> 0
A39: =A38+1 -> 26 | B39: 30" Curb and Gutter | C39: LF | D39: 1050 | F39: =Division1[[#This Row],[UNIT PRICE]]*Division1[[#This Row],[QTY]] -> 0
A40: =A39+1 -> 27 | B40: Concrete Flume | C40: EA | D40: 2 | F40: =Division1[[#This Row],[UNIT PRICE]]*Division1[[#This Row],[QTY]] -> 0
A41: =A40+1 -> 28 | B41: Light Rip Rap w/ Fabric | C41: SY | D41: 5 | F41: =Division1[[#This Row],[UNIT PRICE]]*Division1[[#This Row],[QTY]] -> 0
A42: =A41+1 -> 29 | B42: 1-1/4" Aggregate Base Dense | C42: TON | D42: =(21.92*5219)/27*1.75*1.02+7 -> 7570.1428 | F42: =Division1[[#This Row],[UNIT PRICE]]*Division1[[#This Row],[QTY]] -> 0
A43: =A42+1 -> 30 | B43: Finish Grading | C43: SY | D43: =14856*1.01 -> 15004.56 | F43: =Division1[[#This Row],[UNIT PRICE]]*Division1[[#This Row],[QTY]] -> 0
A44: =A43+1 -> 31 | B44: 2 1/4" 3 LT 58-28 S Asphalt Binder | C44: TON | D44: =14856*116*2.25/2000*1.02-2 -> 1975.4822 | F44: =Division1[[#This Row],[UNIT PRICE]]*Division1[[#This Row],[QTY]] -> 0
A45: =A46+1 -> 32 | B45: Tack Coat | C45: SY | D45: =D43 -> 15004.56 | F45: =Division1[[#This Row],[UNIT PRICE]]*Division1[[#This Row],[QTY]] -> 0
...

Sheet STH 28-W Moraine
A4: Cost Estimate
A5: For: | B5: Highland Drive Reconstruction
A7: To: | B7: Town of Kewaskum
B8: Attn: Anne Tratner, Town Clerk
B9: PO Box 484
B10: Kewaskum, WI 53040
A12: Base Schedule: Highland Drive, STH 28 - W Moraine Drive
A13: ITEM NUMBER | B13: ITEM | C13: UNIT | D13: QTY | E13: Unit Price | F13: Total Cost
A14: 1 | B14: Traffic Control | C14: LS | D14: 0.5 | F14: ='STH 28-W Moraine'!$E14*'STH 28-W Moraine'!$D14 -> 0
A15: =A14+1 -> 2 | B15: Clearing & Grubbing | C15: LS | D15: 0.5 | F15: ='STH 28-W Moraine'!$E15*'STH 28-W Moraine'!$D15 -> 0
A16: =A15+1 -> 3 | B16: Silt Fence | C16: LF | D16: 1870 | F16: ='STH 28-W Moraine'!$E16*'STH 28-W Moraine'!$D16 -> 0
A17: =A16+1 -> 4 | B17: Sawcut Pavement | C17: LF | D17: 37 | F17: ='STH 28-W Moraine'!$E17*'STH 28-W Moraine'!$D17 -> 0
A18: =A17+1 -> 5 | B18: Remove Asphalt Pavement | C18: SY | D18: =43+1601+1765+1709+433+1684+49+49+1228-1 -> 8560 | F18: ='STH 28-W Moraine'!$E18*'STH 28-W Moraine'!$D18 -> 0
A19: =A18+1 -> 6 | B19: Remove Trees | C19: EA | D19: 3 | F19: ='STH 28-W Moraine'!$E19*'STH 28-W Moraine'!$D19 -> 0
A20: =A19+1 -> 7 | B20: Moving Existing Signs | C20: EA | D20: 11 | F20: ='STH 28-W Moraine'!$E20*'STH 28-W Moraine'!$D20 -> 0
A21: =A20+1 -> 8 | B21: Remove 36" Culvert | C21: LF | D21: 43 | F21: ='STH 28-W Moraine'!$E21*'STH 28-W Moraine'!$D21 -> 0
A22: =A21+1 -> 9 | B22: Unclassified Excavation | C22: CY | D22: =1372.19+4280 -> 5652.19 | F22: ='STH 28-W Moraine'!$E22*'STH 28-W Moraine'!$D22 -> 0
A23: =A22+1 -> 10 | B23: Earthwork Fill (from Unclassified Exc.) | C23: CY | D23: =2595.96+1533.39 -> 4129.35 | F23: ='STH 28-W Moraine'!$E23*'STH 28-W Moraine'!$D23 -> 0
A24: =A23+1 -> 11 | B24: Excavation Below Subgrade | C24: CY | D24: =D22*0.1 -> 565.219 | F24: =Division1[[#This Row],[UNIT PRICE]]*Division1[[#This Row],[QTY]] -> 0
A25: =A24+1 -> 12 | B25: Undercut | C25: CY | D25: =D24*0.15-1 -> 83.78285 | F25: =Division1[[#This Row],[UNIT PRICE]]*Division1[[#This Row],[QTY]] -> 0
A26: =A25+1 -> 13 | B26: 12" HDPE Storm Sewer | C26: LF | D26: 124 | F26: ='STH 28-W Moraine'!$E26*'STH 28-W Moraine'!$D26 -> 0
A27: =A26+1 -> 14 | B27: 15" HDPE Storm Sewer | C27: LF | D27: 134 | F27: ='STH 28-W Moraine'!$E27*'STH 28-W Moraine'!$D27 -> 0
A28: =A27+1 -> 15 | B28: 36" RCP Storm Sewer | C28: LF | D28: 50 | F28: ='STH 28-W Moraine'!$E28*'STH 28-W Moraine'!$D28 -> 0
A29: =A28+1 -> 16 | B29: 12" Apron Endwall | C29: EA | D29: 6 | F29: ='STH 28-W Moraine'!$E29*'STH 28-W Moraine'!$D29 -> 0
A30: =A29+1 -> 17 | B30: 15" Apron Endwall | C30: EA | D30: 6 | F30: ='STH 28-W Moraine'!$E30*'STH 28-W Moraine'!$D30 -> 0
A31: =A30+1 -> 18 | B31: 36" Apron Endwall | C31: EA | D31: 2 | F31: ='STH 28-W Moraine'!$E31*'STH 28-W Moraine'!$D31 -> 0
A32: =A31+1 -> 19 | B32: 30" Curb and Gutter | C32: LF | D32: 1200 | F32: ='STH 28-W Moraine'!$E32*'STH 28-W Moraine'!$D32 -> 0
A33: =A32+1 -> 20 | B33: Concrete Flume | C33: EA | D33: 6 | F33: ='STH 28-W Moraine'!$E33*'STH 28-W Moraine'!$D33 -> 0
A34: =A33+1 -> 21 | B34: Light Rip Rap w/ Fabric | C34: SY | D34: 16 | F34: ='STH 28-W Moraine'!$E34*'STH 28-W Moraine'!$D34 -> 0
A35: =A34+1 -> 22 | B35: 1-1/4" Aggregate Base Dense | C35: TON | D35: =(21.92*3858)/27*1.75*1.01+4 -> 5540.03 | F35: ='STH 28-W Moraine'!$E35*'STH 28-W Moraine'!$D35 -> 0
A36: =A35+1 -> 23 | B36: Finish Grading | C36: SY | D36: 11165 | F36: ='STH 28-W Moraine'!$E36*'STH 28-W Moraine'!$D36 -> 0
A37: =A36+1 -> 24 | B37: 2 1/4" 3 LT 58-28 S Asphalt Binder | C37: TON | D37: =D36*116*2.25/2000*1.02-1 -> 1485.1732 | F37: ='STH 28-W Moraine'!$E37*'STH 28-W Moraine'!$D37 -> 0
A38: =A37+1 -> 25 | B38: Tack Coat | C38: SY | D38: =D36 -> 11165 | F38: =Division1[[#This Row],[UNIT PRICE]]*Division1[[#This Row],[QTY]] -> 0
A39: =A36+1 -> 24 | B39: 1 3/4" 4 LT 58-28 S Asphalt Surface | C39: TON | D39: =D36*116*1.75/2000*1.02-1 -> 1154.9125 | F39: ='STH 28-W Moraine'!$E39*'STH 28-W Moraine'!$D39 -> 0
A40: =A37+1 -> 25 | B40: 4" Asphalt Pavement for Driveways w/ 6" CABC | C40: SY | D40: 110 | F40: ='STH 28-W Moraine'!$E40*'STH 28-W Moraine'!$D40 -> 0
A41: =A40+1 -> 26 | B41: 6" - 3/4" Aggregate Base Dense Driveway | C41: SY | D41: 775 | F41: ='STH 28-W Moraine'!$E41*'STH 28-W Moraine'!$D41 -> 0
A42: =A41+1 -> 27 | B42: Temporary Seed and Mulch | C42: SY | D42: =D43 -> 9279.84 | F42: ='STH 28-W Moraine'!$E42*'STH 28-W Moraine'!$D42 -> 0
A43: =A42+1 -> 28 | B43: Restoration (Topsoil, Seed and Fertilizer) | C43: SY | D43: =9184*1.01+4 -> 9279.84 | F43: ='STH 28-W Moraine'!$E43*'STH 28-W Moraine'!$D43 -> 0
A44: =A43+1 -> 29 | B44: Class I, Type A Erosion Mat | C44: SY | D44: =6419*1.02+3 -> 6550.38 | F44: ='STH 28-W Moraine'!$E44*'STH 28-W Moraine'!$D44 -> 0
E45: Total Cost | F45: =SUM(F14:F44) -> 0
...
